BEGIN:VCALENDAR
VERSION:2.0
PRODID:-//Calumet City Public Library - ECPv6.3.3.1//NONSGML v1.0//EN
CALSCALE:GREGORIAN
METHOD:PUBLISH
X-WR-CALNAME:Calumet City Public Library
X-ORIGINAL-URL:https://www.calumetcitypl.org
X-WR-CALDESC:Events for Calumet City Public Library
REFRESH-INTERVAL;VALUE=DURATION:PT1H
X-Robots-Tag:noindex
X-PUBLISHED-TTL:PT1H
BEGIN:VTIMEZONE
TZID:America/Chicago
BEGIN:DAYLIGHT
TZOFFSETFROM:-0600
TZOFFSETTO:-0500
TZNAME:CDT
DTSTART:20250309T080000
END:DAYLIGHT
BEGIN:STANDARD
TZOFFSETFROM:-0500
TZOFFSETTO:-0600
TZNAME:CST
DTSTART:20251102T070000
END:STANDARD
END:VTIMEZONE
BEGIN:VEVENT
DTSTART;TZID=America/Chicago:20250416T140000
DTEND;TZID=America/Chicago:20250416T150000
DTSTAMP:20260422T041414
CREATED:20250319T220045Z
LAST-MODIFIED:20250412T033853Z
UID:7590-1744812000-1744815600@www.calumetcitypl.org
SUMMARY:Zumba
DESCRIPTION:
URL:https://www.calumetcitypl.org/event/zumba-49/
LOCATION:Calumet City Public Library\, 660 Manistee Ave.\, Calumet City\, IL\, 60409\, United States
CATEGORIES:Adult Program
ATTACH;FMTTYPE=image/jpeg:https://www.calumetcitypl.org/wp-content/uploads/2025/03/april_zumba_full.jpg
END:VEVENT
BEGIN:VEVENT
DTSTART;TZID=America/Chicago:20250416T130000
DTEND;TZID=America/Chicago:20250416T140000
DTSTAMP:20260422T041414
CREATED:20250319T220944Z
LAST-MODIFIED:20250412T033513Z
UID:7595-1744808400-1744812000@www.calumetcitypl.org
SUMMARY:Bingo
DESCRIPTION:
URL:https://www.calumetcitypl.org/event/bingo-21/
LOCATION:Calumet City Public Library\, 660 Manistee Ave.\, Calumet City\, IL\, 60409\, United States
CATEGORIES:Adult Program
ATTACH;FMTTYPE=image/jpeg:https://www.calumetcitypl.org/wp-content/uploads/2025/03/april_bingo.jpg
END:VEVENT
BEGIN:VEVENT
DTSTART;TZID=America/Chicago:20250415T170000
DTEND;TZID=America/Chicago:20250415T180000
DTSTAMP:20260422T041414
CREATED:20250330T053643Z
LAST-MODIFIED:20250330T053643Z
UID:7672-1744736400-1744740000@www.calumetcitypl.org
SUMMARY:Spring Story Time
DESCRIPTION:Call 708-862-6220 ext 254 to register
URL:https://www.calumetcitypl.org/event/spring-story-time/
LOCATION:Calumet City Public Library\, 660 Manistee Ave.\, Calumet City\, IL\, 60409\, United States
CATEGORIES:Youth Program
ATTACH;FMTTYPE=image/jpeg:https://www.calumetcitypl.org/wp-content/uploads/2025/03/spring_story_time.jpg
END:VEVENT
BEGIN:VEVENT
DTSTART;TZID=America/Chicago:20250415T130000
DTEND;TZID=America/Chicago:20250415T140000
DTSTAMP:20260422T041414
CREATED:20250319T215816Z
LAST-MODIFIED:20250319T215816Z
UID:7585-1744722000-1744725600@www.calumetcitypl.org
SUMMARY:Computer Help
DESCRIPTION:
URL:https://www.calumetcitypl.org/event/computer-help-59/
LOCATION:Calumet City Public Library\, 660 Manistee Ave.\, Calumet City\, IL\, 60409\, United States
CATEGORIES:Adult Program
ATTACH;FMTTYPE=image/jpeg:https://www.calumetcitypl.org/wp-content/uploads/2025/03/april_computer_help.jpg
END:VEVENT
BEGIN:VEVENT
DTSTART;TZID=America/Chicago:20250414T170000
DTEND;TZID=America/Chicago:20250414T180000
DTSTAMP:20260422T041414
CREATED:20250330T045352Z
LAST-MODIFIED:20250330T045353Z
UID:7651-1744650000-1744653600@www.calumetcitypl.org
SUMMARY:Young Genius Society
DESCRIPTION:Call 708-862-6220 ext 254 to register
URL:https://www.calumetcitypl.org/event/young-genius-society-45/
LOCATION:Calumet City Public Library\, 660 Manistee Ave.\, Calumet City\, IL\, 60409\, United States
CATEGORIES:Youth Program
ATTACH;FMTTYPE=image/jpeg:https://www.calumetcitypl.org/wp-content/uploads/2025/03/young_genuis_APRIL.jpg
END:VEVENT
BEGIN:VEVENT
DTSTART;TZID=America/Chicago:20250414T130000
DTEND;TZID=America/Chicago:20250414T140000
DTSTAMP:20260422T041414
CREATED:20250319T214830Z
LAST-MODIFIED:20250319T214831Z
UID:7563-1744635600-1744639200@www.calumetcitypl.org
SUMMARY:Tai-Chi
DESCRIPTION:
URL:https://www.calumetcitypl.org/event/tai-chi-63/
LOCATION:Calumet City Public Library\, 660 Manistee Ave.\, Calumet City\, IL\, 60409\, United States
CATEGORIES:Adult Program
ATTACH;FMTTYPE=image/jpeg:https://www.calumetcitypl.org/wp-content/uploads/2025/03/april_tai_chi.jpg
END:VEVENT
END:VCALENDAR